BEGIN:VCALENDAR
VERSION:2.0
PRODID:-//eventon.com NONSGML v1.0//EN
BEGIN:VEVENT
UID:69eb324150f97
DTSTAMP:20260424T090505
DTSTART:20220810T123000Z
DTEND:20220811T035000Z
TZID:America/New_York
LOCATION:Cordele Historic Museum  105 East 9th Avenue
SUMMARY:Cordele Downtown Revitalization Committee (DRC) Meeting
DESCRIPTION: Cordele Downtown Revitalization Committee (DRC) Meeting
URL:https://downtowncordele.com/events/cordele-downtown-revitalization-committee-drc-meeting-4/
END:VEVENT
END:VCALENDAR